BEGIN:VCALENDAR
VERSION:2.0
PRODID:-//WIRPA - ECPv6.15.20//NONSGML v1.0//EN
CALSCALE:GREGORIAN
METHOD:PUBLISH
X-ORIGINAL-URL:https://womeninrpa.com
X-WR-CALDESC:Events for WIRPA
REFRESH-INTERVAL;VALUE=DURATION:PT1H
X-Robots-Tag:noindex
X-PUBLISHED-TTL:PT1H
BEGIN:VTIMEZONE
TZID:Europe/Moscow
BEGIN:STANDARD
TZOFFSETFROM:+0300
TZOFFSETTO:+0300
TZNAME:MSK
DTSTART:20230101T000000
END:STANDARD
END:VTIMEZONE
BEGIN:VEVENT
DTSTART;TZID=Europe/Moscow:20240602T180000
DTEND;TZID=Europe/Moscow:20240602T190000
DTSTAMP:20260420T205806
CREATED:20240530T031215Z
LAST-MODIFIED:20240601T085635Z
UID:657-1717351200-1717354800@womeninrpa.com
SUMMARY:Bitcoin Pizza Party @The Foundry
DESCRIPTION:4th annual Global Pizza Party
URL:https://womeninrpa.com/event/bitcoin-pizza-party-the-foundry/
LOCATION:The Foundry SF\, San Francisco
ATTACH;FMTTYPE=image/png:https://womeninrpa.com/wp-content/uploads/2024/05/Screen-Shot-2024-05-29-at-21.11.30-e1717232177886.png
END:VEVENT
BEGIN:VEVENT
DTSTART;TZID=Europe/Moscow:20240529T080000
DTEND;TZID=Europe/Moscow:20240531T170000
DTSTAMP:20260420T205806
CREATED:20240602T034523Z
LAST-MODIFIED:20240602T034523Z
UID:725-1716969600-1717174800@womeninrpa.com
SUMMARY:GenAI Summit San Francisco 2024
DESCRIPTION:​#AIAREALL \n​Dive into the heart of innovation at the GenAI Summit San Francisco 2024\, set in the awe-inspiring\, historic Palace of Fine Arts from May 29th to May 31st. This summit is not just an event\, it’s an extraordinary convergence of the brightest minds in Generative AI\, encapsulating the spirit of the future. \n​The Summit at a Glance \n​• 30\,000+ attendees from around the globe \n​• 300+ exhibitors showcasing groundbreaking AI solutions \n​• 300+ VCs looking for the next big idea \n​• 200+ thought-leading experts sharing invaluable insights \n​• 50+ media outlets capturing every exciting moment \n​• 20+ tracks and 200 sessions showcasing exhilarating discoveries \n​• 200\,000+ square feet of immersive experiences
URL:https://womeninrpa.com/event/genai-summit-san-francisco-2024/
LOCATION:Place of Fine Arts\, San Francisco\, United States
ATTACH;FMTTYPE=image/png:https://womeninrpa.com/wp-content/uploads/2024/06/Screen-Shot-2024-06-01-at-20.43.12.png
END:VEVENT
END:VCALENDAR